BEGIN:VCALENDAR
VERSION:2.0
PRODID:-//ศูนย์กิจการนานาชาติ - ECPv6.15.20//NONSGML v1.0//EN
CALSCALE:GREGORIAN
METHOD:PUBLISH
X-WR-CALNAME:ศูนย์กิจการนานาชาติ
X-ORIGINAL-URL:https://cia.wu.ac.th
X-WR-CALDESC:Events for ศูนย์กิจการนานาชาติ
REFRESH-INTERVAL;VALUE=DURATION:PT1H
X-Robots-Tag:noindex
X-PUBLISHED-TTL:PT1H
BEGIN:VTIMEZONE
TZID:Asia/Bangkok
BEGIN:STANDARD
TZOFFSETFROM:+0700
TZOFFSETTO:+0700
TZNAME:+07
DTSTART:20240101T000000
END:STANDARD
END:VTIMEZONE
BEGIN:VEVENT
DTSTART;TZID=Asia/Bangkok:20250113T100000
DTEND;TZID=Asia/Bangkok:20250113T130000
DTSTAMP:20260422T205648
CREATED:20250109T042319Z
LAST-MODIFIED:20250109T042319Z
UID:31055-1736762400-1736773200@cia.wu.ac.th
SUMMARY:MOU Signing Ceremony - National Taitung University\, Taiwan
DESCRIPTION:สถาบันส่งเสริมการวิจัยและนวัตกรรมสู่ความเป็นเลิศ  ขอความอนุเคราะห์ท่านเป็นพิธีกรดำเนินรายการ พิธีลงนามความร่วมมือ (MoU) กับ National Taitung University ประเทศใต้หวัน ในวันจันทร์ ที่ 13 มกราคม 2568 เวลา 10.00 – 12.00 น. ณ ห้องประชุมช่อประดู่ ชั้น 4 ศูนย์การแพทย์มหาวิทยาลัยวลัยลักษณ์
URL:https://cia.wu.ac.th/event/mou-signing-ceremony-national-taitung-university-taiwan/
LOCATION:ห้องประชุมช่อประดู่ ชั้น 4 อาคารศูนย์การแพทย์\, 222 ต.ไทยบุรี\, ท่าศาลา\, นครศรีธรรมราช\, 80160\, Thailand
END:VEVENT
END:VCALENDAR