BEGIN:VCALENDAR
VERSION:2.0
PRODID:-//ศูนย์กิจการนานาชาติ - ECPv6.15.20//NONSGML v1.0//EN
CALSCALE:GREGORIAN
METHOD:PUBLISH
X-WR-CALNAME:ศูนย์กิจการนานาชาติ
X-ORIGINAL-URL:https://cia.wu.ac.th
X-WR-CALDESC:Events for ศูนย์กิจการนานาชาติ
REFRESH-INTERVAL;VALUE=DURATION:PT1H
X-Robots-Tag:noindex
X-PUBLISHED-TTL:PT1H
BEGIN:VTIMEZONE
TZID:Asia/Bangkok
BEGIN:STANDARD
TZOFFSETFROM:+0700
TZOFFSETTO:+0700
TZNAME:+07
DTSTART:20230101T000000
END:STANDARD
END:VTIMEZONE
BEGIN:VEVENT
DTSTART;TZID=Asia/Bangkok:20241224T133000
DTEND;TZID=Asia/Bangkok:20241224T170000
DTSTAMP:20260423T052157
CREATED:20241219T073348Z
LAST-MODIFIED:20241219T074530Z
UID:30857-1735047000-1735059600@cia.wu.ac.th
SUMMARY:CIA Meeting and Seminar
DESCRIPTION:CIA Meeting +สัมมนาหน่วยงาน (นอกสถานที่)
URL:https://cia.wu.ac.th/event/cia-meeting-%e0%b8%aa%e0%b8%b1%e0%b8%a1%e0%b8%a1%e0%b8%99%e0%b8%b2%e0%b8%ab%e0%b8%99%e0%b9%88%e0%b8%a7%e0%b8%a2%e0%b8%87%e0%b8%b2%e0%b8%99-%e0%b8%99%e0%b8%ad%e0%b8%81%e0%b8%aa%e0%b8%96%e0%b8%b2/
ORGANIZER;CN="Center for International Affairs":MAILTO:interaffairs.wu@gmail.com
END:VEVENT
BEGIN:VEVENT
DTSTART;TZID=Asia/Bangkok:20241223T133000
DTEND;TZID=Asia/Bangkok:20241223T150000
DTSTAMP:20260423T052157
CREATED:20241219T071705Z
LAST-MODIFIED:20241220T015649Z
UID:30848-1734960600-1734966000@cia.wu.ac.th
SUMMARY:Internationalization Committee Meeting
DESCRIPTION:Internationalization Committee Meeting
URL:https://cia.wu.ac.th/event/%e0%b8%9b%e0%b8%a3%e0%b8%b0%e0%b8%8a%e0%b8%b8%e0%b8%a1%e0%b8%84%e0%b8%93%e0%b8%b0%e0%b8%81%e0%b8%a3%e0%b8%a3%e0%b8%a1%e0%b8%81%e0%b8%b2%e0%b8%a3%e0%b8%9e%e0%b8%b1%e0%b8%99%e0%b8%98%e0%b8%81%e0%b8%b4/
LOCATION:Khao Luang Chamber
END:VEVENT
END:VCALENDAR