BEGIN:VCALENDAR
VERSION:2.0
PRODID:-//ศูนย์กิจการนานาชาติ - ECPv6.15.20//NONSGML v1.0//EN
CALSCALE:GREGORIAN
METHOD:PUBLISH
X-WR-CALNAME:ศูนย์กิจการนานาชาติ
X-ORIGINAL-URL:https://cia.wu.ac.th
X-WR-CALDESC:Events for ศูนย์กิจการนานาชาติ
REFRESH-INTERVAL;VALUE=DURATION:PT1H
X-Robots-Tag:noindex
X-PUBLISHED-TTL:PT1H
BEGIN:VTIMEZONE
TZID:Asia/Bangkok
BEGIN:STANDARD
TZOFFSETFROM:+0700
TZOFFSETTO:+0700
TZNAME:+07
DTSTART:20240101T000000
END:STANDARD
END:VTIMEZONE
BEGIN:VEVENT
DTSTART;TZID=Asia/Bangkok:20250122T080000
DTEND;TZID=Asia/Bangkok:20250122T170000
DTSTAMP:20260423T052028
CREATED:20250122T092839Z
LAST-MODIFIED:20250122T092839Z
UID:31136-1737532800-1737565200@cia.wu.ac.th
SUMMARY:MOU singing ceremony of School of Allied Health
DESCRIPTION:
URL:https://cia.wu.ac.th/event/mou-singing-ceremony-of-school-of-allied-health-3/
END:VEVENT
BEGIN:VEVENT
DTSTART;TZID=Asia/Bangkok:20250122T150000
DTEND;TZID=Asia/Bangkok:20250122T160000
DTSTAMP:20260423T052028
CREATED:20250122T090853Z
LAST-MODIFIED:20250122T091348Z
UID:31131-1737558000-1737561600@cia.wu.ac.th
SUMMARY:MOU singing ceremony of School of Allied Health
DESCRIPTION:
URL:https://cia.wu.ac.th/event/mou-singing-ceremony-of-school-of-allied-health/
LOCATION:ห้องประชุมช่อประดู่ ชั้น 4 อาคารศูนย์การแพทย์\, 222 ต.ไทยบุรี\, ท่าศาลา\, นครศรีธรรมราช\, 80160\, Thailand
END:VEVENT
BEGIN:VEVENT
DTSTART;TZID=Asia/Bangkok:20250122T150000
DTEND;TZID=Asia/Bangkok:20250122T160000
DTSTAMP:20260423T052028
CREATED:20250122T091600Z
LAST-MODIFIED:20250122T092954Z
UID:31133-1737558000-1737561600@cia.wu.ac.th
SUMMARY:MOU singing ceremony of School of Allied Health
DESCRIPTION:
URL:https://cia.wu.ac.th/event/mou-singing-ceremony-of-school-of-allied-health-2/
LOCATION:ห้องประชุมช่อประดู่ ชั้น 4 อาคารศูนย์การแพทย์\, 222 ต.ไทยบุรี\, ท่าศาลา\, นครศรีธรรมราช\, 80160\, Thailand
ORGANIZER;CN="Center for International Affairs":MAILTO:interaffairs.wu@gmail.com
END:VEVENT
BEGIN:VEVENT
DTSTART;TZID=Asia/Bangkok:20260323T080000
DTEND;TZID=Asia/Bangkok:20260323T170000
DTSTAMP:20260423T052028
CREATED:20260323T025841Z
LAST-MODIFIED:20260323T030443Z
UID:33263-1774252800-1774285200@cia.wu.ac.th
SUMMARY:Thai Dessert & Cultural Experience
DESCRIPTION:
URL:https://cia.wu.ac.th/event/thai-dessert-workshop/
LOCATION:WU Culinary Center\, Thailand
ATTACH;FMTTYPE=image/jpeg:https://cia.wu.ac.th/wp-content/uploads/2026/03/Thai-Dessert-Cultural-Experience-1.jpg
ORGANIZER;CN="Center for International Affairs":MAILTO:interaffairs.wu@gmail.com
END:VEVENT
END:VCALENDAR